BEGIN:VCALENDAR
VERSION:2.0
PRODID:-//Community Presbyterian Church - ECPv6.15.17.1//NONSGML v1.0//EN
CALSCALE:GREGORIAN
METHOD:PUBLISH
X-WR-CALNAME:Community Presbyterian Church
X-ORIGINAL-URL:https://cpcab.org
X-WR-CALDESC:Events for Community Presbyterian Church
REFRESH-INTERVAL;VALUE=DURATION:PT1H
X-Robots-Tag:noindex
X-PUBLISHED-TTL:PT1H
BEGIN:VTIMEZONE
TZID:UTC
BEGIN:STANDARD
TZOFFSETFROM:+0000
TZOFFSETTO:+0000
TZNAME:UTC
DTSTART:20250101T000000
END:STANDARD
END:VTIMEZONE
BEGIN:VEVENT
DTSTART;TZID=UTC:20260513T170000
DTEND;TZID=UTC:20260513T170000
DTSTAMP:20260424T083647
CREATED:20230501T155741Z
LAST-MODIFIED:20230501T155741Z
UID:10005618-1778691600-1778691600@cpcab.org
SUMMARY:Christian Education Committee
DESCRIPTION:
URL:https://cpcab.org/event/christian-education-committee/2026-05-13/
END:VEVENT
BEGIN:VEVENT
DTSTART;TZID=UTC:20260610T170000
DTEND;TZID=UTC:20260610T170000
DTSTAMP:20260424T083647
CREATED:20230501T155741Z
LAST-MODIFIED:20230501T155741Z
UID:10005619-1781110800-1781110800@cpcab.org
SUMMARY:Christian Education Committee
DESCRIPTION:
URL:https://cpcab.org/event/christian-education-committee/2026-06-10/
END:VEVENT
BEGIN:VEVENT
DTSTART;TZID=UTC:20260708T170000
DTEND;TZID=UTC:20260708T170000
DTSTAMP:20260424T083647
CREATED:20230501T155741Z
LAST-MODIFIED:20230501T155741Z
UID:10005620-1783530000-1783530000@cpcab.org
SUMMARY:Christian Education Committee
DESCRIPTION:
URL:https://cpcab.org/event/christian-education-committee/2026-07-08/
END:VEVENT
BEGIN:VEVENT
DTSTART;TZID=UTC:20260812T170000
DTEND;TZID=UTC:20260812T170000
DTSTAMP:20260424T083647
CREATED:20230501T155741Z
LAST-MODIFIED:20230501T155741Z
UID:10005621-1786554000-1786554000@cpcab.org
SUMMARY:Christian Education Committee
DESCRIPTION:
URL:https://cpcab.org/event/christian-education-committee/2026-08-12/
END:VEVENT
BEGIN:VEVENT
DTSTART;TZID=UTC:20260909T170000
DTEND;TZID=UTC:20260909T170000
DTSTAMP:20260424T083647
CREATED:20230501T155741Z
LAST-MODIFIED:20230501T155741Z
UID:10005622-1788973200-1788973200@cpcab.org
SUMMARY:Christian Education Committee
DESCRIPTION:
URL:https://cpcab.org/event/christian-education-committee/2026-09-09/
END:VEVENT
BEGIN:VEVENT
DTSTART;TZID=UTC:20261014T170000
DTEND;TZID=UTC:20261014T170000
DTSTAMP:20260424T083647
CREATED:20230501T155741Z
LAST-MODIFIED:20230501T155741Z
UID:10005623-1791997200-1791997200@cpcab.org
SUMMARY:Christian Education Committee
DESCRIPTION:
URL:https://cpcab.org/event/christian-education-committee/2026-10-14/
END:VEVENT
BEGIN:VEVENT
DTSTART;TZID=UTC:20261111T170000
DTEND;TZID=UTC:20261111T170000
DTSTAMP:20260424T083647
CREATED:20230501T155741Z
LAST-MODIFIED:20230501T155741Z
UID:10005624-1794416400-1794416400@cpcab.org
SUMMARY:Christian Education Committee
DESCRIPTION:
URL:https://cpcab.org/event/christian-education-committee/2026-11-11/
END:VEVENT
BEGIN:VEVENT
DTSTART;TZID=UTC:20261209T170000
DTEND;TZID=UTC:20261209T170000
DTSTAMP:20260424T083647
CREATED:20230501T155741Z
LAST-MODIFIED:20230501T155741Z
UID:10005625-1796835600-1796835600@cpcab.org
SUMMARY:Christian Education Committee
DESCRIPTION:
URL:https://cpcab.org/event/christian-education-committee/2026-12-09/
END:VEVENT
BEGIN:VEVENT
DTSTART;TZID=UTC:20270113T170000
DTEND;TZID=UTC:20270113T170000
DTSTAMP:20260424T083647
CREATED:20230501T155741Z
LAST-MODIFIED:20230501T155741Z
UID:10005626-1799859600-1799859600@cpcab.org
SUMMARY:Christian Education Committee
DESCRIPTION:
URL:https://cpcab.org/event/christian-education-committee/2027-01-13/
END:VEVENT
BEGIN:VEVENT
DTSTART;TZID=UTC:20270210T170000
DTEND;TZID=UTC:20270210T170000
DTSTAMP:20260424T083647
CREATED:20230501T155741Z
LAST-MODIFIED:20230501T155741Z
UID:10005627-1802278800-1802278800@cpcab.org
SUMMARY:Christian Education Committee
DESCRIPTION:
URL:https://cpcab.org/event/christian-education-committee/2027-02-10/
END:VEVENT
BEGIN:VEVENT
DTSTART;TZID=UTC:20270310T170000
DTEND;TZID=UTC:20270310T170000
DTSTAMP:20260424T083647
CREATED:20230501T155741Z
LAST-MODIFIED:20230501T155741Z
UID:10005628-1804698000-1804698000@cpcab.org
SUMMARY:Christian Education Committee
DESCRIPTION:
URL:https://cpcab.org/event/christian-education-committee/2027-03-10/
END:VEVENT
BEGIN:VEVENT
DTSTART;TZID=UTC:20270414T170000
DTEND;TZID=UTC:20270414T170000
DTSTAMP:20260424T083647
CREATED:20230501T155741Z
LAST-MODIFIED:20230501T155741Z
UID:10005629-1807722000-1807722000@cpcab.org
SUMMARY:Christian Education Committee
DESCRIPTION:
URL:https://cpcab.org/event/christian-education-committee/2027-04-14/
END:VEVENT
BEGIN:VEVENT
DTSTART;TZID=UTC:20270512T170000
DTEND;TZID=UTC:20270512T170000
DTSTAMP:20260424T083647
CREATED:20230501T155741Z
LAST-MODIFIED:20230501T155741Z
UID:10005630-1810141200-1810141200@cpcab.org
SUMMARY:Christian Education Committee
DESCRIPTION:
URL:https://cpcab.org/event/christian-education-committee/2027-05-12/
END:VEVENT
BEGIN:VEVENT
DTSTART;TZID=UTC:20270609T170000
DTEND;TZID=UTC:20270609T170000
DTSTAMP:20260424T083647
CREATED:20230501T155741Z
LAST-MODIFIED:20230501T155741Z
UID:10005631-1812560400-1812560400@cpcab.org
SUMMARY:Christian Education Committee
DESCRIPTION:
URL:https://cpcab.org/event/christian-education-committee/2027-06-09/
END:VEVENT
BEGIN:VEVENT
DTSTART;TZID=UTC:20270714T170000
DTEND;TZID=UTC:20270714T170000
DTSTAMP:20260424T083647
CREATED:20230501T155741Z
LAST-MODIFIED:20230501T155741Z
UID:10005632-1815584400-1815584400@cpcab.org
SUMMARY:Christian Education Committee
DESCRIPTION:
URL:https://cpcab.org/event/christian-education-committee/2027-07-14/
END:VEVENT
BEGIN:VEVENT
DTSTART;TZID=UTC:20270811T170000
DTEND;TZID=UTC:20270811T170000
DTSTAMP:20260424T083647
CREATED:20230501T155741Z
LAST-MODIFIED:20230501T155741Z
UID:10005633-1818003600-1818003600@cpcab.org
SUMMARY:Christian Education Committee
DESCRIPTION:
URL:https://cpcab.org/event/christian-education-committee/2027-08-11/
END:VEVENT
BEGIN:VEVENT
DTSTART;TZID=UTC:20270908T170000
DTEND;TZID=UTC:20270908T170000
DTSTAMP:20260424T083647
CREATED:20230501T155741Z
LAST-MODIFIED:20230501T155741Z
UID:10005634-1820422800-1820422800@cpcab.org
SUMMARY:Christian Education Committee
DESCRIPTION:
URL:https://cpcab.org/event/christian-education-committee/2027-09-08/
END:VEVENT
BEGIN:VEVENT
DTSTART;TZID=UTC:20271013T170000
DTEND;TZID=UTC:20271013T170000
DTSTAMP:20260424T083647
CREATED:20230501T155741Z
LAST-MODIFIED:20230501T155741Z
UID:10005635-1823446800-1823446800@cpcab.org
SUMMARY:Christian Education Committee
DESCRIPTION:
URL:https://cpcab.org/event/christian-education-committee/2027-10-13/
END:VEVENT
BEGIN:VEVENT
DTSTART;TZID=UTC:20271110T170000
DTEND;TZID=UTC:20271110T170000
DTSTAMP:20260424T083647
CREATED:20230501T155741Z
LAST-MODIFIED:20230501T155741Z
UID:10005636-1825866000-1825866000@cpcab.org
SUMMARY:Christian Education Committee
DESCRIPTION:
URL:https://cpcab.org/event/christian-education-committee/2027-11-10/
END:VEVENT
BEGIN:VEVENT
DTSTART;TZID=UTC:20271208T170000
DTEND;TZID=UTC:20271208T170000
DTSTAMP:20260424T083647
CREATED:20230501T155741Z
LAST-MODIFIED:20230501T155741Z
UID:10005637-1828285200-1828285200@cpcab.org
SUMMARY:Christian Education Committee
DESCRIPTION:
URL:https://cpcab.org/event/christian-education-committee/2027-12-08/
END:VEVENT
BEGIN:VEVENT
DTSTART;TZID=UTC:20280112T170000
DTEND;TZID=UTC:20280112T170000
DTSTAMP:20260424T083647
CREATED:20230501T155741Z
LAST-MODIFIED:20230501T155741Z
UID:10005638-1831309200-1831309200@cpcab.org
SUMMARY:Christian Education Committee
DESCRIPTION:
URL:https://cpcab.org/event/christian-education-committee/2028-01-12/
END:VEVENT
BEGIN:VEVENT
DTSTART;TZID=UTC:20280209T170000
DTEND;TZID=UTC:20280209T170000
DTSTAMP:20260424T083647
CREATED:20230501T155741Z
LAST-MODIFIED:20230501T155741Z
UID:10005639-1833728400-1833728400@cpcab.org
SUMMARY:Christian Education Committee
DESCRIPTION:
URL:https://cpcab.org/event/christian-education-committee/2028-02-09/
END:VEVENT
BEGIN:VEVENT
DTSTART;TZID=UTC:20280308T170000
DTEND;TZID=UTC:20280308T170000
DTSTAMP:20260424T083647
CREATED:20230501T155741Z
LAST-MODIFIED:20230501T155741Z
UID:10005640-1836147600-1836147600@cpcab.org
SUMMARY:Christian Education Committee
DESCRIPTION:
URL:https://cpcab.org/event/christian-education-committee/2028-03-08/
END:VEVENT
BEGIN:VEVENT
DTSTART;TZID=UTC:20280412T170000
DTEND;TZID=UTC:20280412T170000
DTSTAMP:20260424T083647
CREATED:20230501T155741Z
LAST-MODIFIED:20230501T155741Z
UID:10005641-1839171600-1839171600@cpcab.org
SUMMARY:Christian Education Committee
DESCRIPTION:
URL:https://cpcab.org/event/christian-education-committee/2028-04-12/
END:VEVENT
END:VCALENDAR