BEGIN:VCALENDAR
VERSION:2.0
PRODID:-//Community Presbyterian Church - ECPv6.15.17.1//NONSGML v1.0//EN
CALSCALE:GREGORIAN
METHOD:PUBLISH
X-WR-CALNAME:Community Presbyterian Church
X-ORIGINAL-URL:https://cpcab.org
X-WR-CALDESC:Events for Community Presbyterian Church
REFRESH-INTERVAL;VALUE=DURATION:PT1H
X-Robots-Tag:noindex
X-PUBLISHED-TTL:PT1H
BEGIN:VTIMEZONE
TZID:UTC
BEGIN:STANDARD
TZOFFSETFROM:+0000
TZOFFSETTO:+0000
TZNAME:UTC
DTSTART:20250101T000000
END:STANDARD
END:VTIMEZONE
BEGIN:VEVENT
DTSTART;TZID=UTC:20260519T180000
DTEND;TZID=UTC:20260519T180000
DTSTAMP:20260422T175115
CREATED:20230501T155537Z
LAST-MODIFIED:20230501T155601Z
UID:10005498-1779213600-1779213600@cpcab.org
SUMMARY:Finance Committee
DESCRIPTION:
URL:https://cpcab.org/event/finance-committee-6/2026-05-19/
END:VEVENT
BEGIN:VEVENT
DTSTART;TZID=UTC:20260616T180000
DTEND;TZID=UTC:20260616T180000
DTSTAMP:20260422T175115
CREATED:20230501T155537Z
LAST-MODIFIED:20230501T155601Z
UID:10005499-1781632800-1781632800@cpcab.org
SUMMARY:Finance Committee
DESCRIPTION:
URL:https://cpcab.org/event/finance-committee-6/2026-06-16/
END:VEVENT
BEGIN:VEVENT
DTSTART;TZID=UTC:20260721T180000
DTEND;TZID=UTC:20260721T180000
DTSTAMP:20260422T175115
CREATED:20230501T155537Z
LAST-MODIFIED:20230501T155601Z
UID:10005500-1784656800-1784656800@cpcab.org
SUMMARY:Finance Committee
DESCRIPTION:
URL:https://cpcab.org/event/finance-committee-6/2026-07-21/
END:VEVENT
BEGIN:VEVENT
DTSTART;TZID=UTC:20260818T180000
DTEND;TZID=UTC:20260818T180000
DTSTAMP:20260422T175115
CREATED:20230501T155537Z
LAST-MODIFIED:20230501T155601Z
UID:10005501-1787076000-1787076000@cpcab.org
SUMMARY:Finance Committee
DESCRIPTION:
URL:https://cpcab.org/event/finance-committee-6/2026-08-18/
END:VEVENT
BEGIN:VEVENT
DTSTART;TZID=UTC:20260915T180000
DTEND;TZID=UTC:20260915T180000
DTSTAMP:20260422T175115
CREATED:20230501T155537Z
LAST-MODIFIED:20230501T155601Z
UID:10005502-1789495200-1789495200@cpcab.org
SUMMARY:Finance Committee
DESCRIPTION:
URL:https://cpcab.org/event/finance-committee-6/2026-09-15/
END:VEVENT
BEGIN:VEVENT
DTSTART;TZID=UTC:20261020T180000
DTEND;TZID=UTC:20261020T180000
DTSTAMP:20260422T175115
CREATED:20230501T155537Z
LAST-MODIFIED:20230501T155601Z
UID:10005503-1792519200-1792519200@cpcab.org
SUMMARY:Finance Committee
DESCRIPTION:
URL:https://cpcab.org/event/finance-committee-6/2026-10-20/
END:VEVENT
BEGIN:VEVENT
DTSTART;TZID=UTC:20261117T180000
DTEND;TZID=UTC:20261117T180000
DTSTAMP:20260422T175115
CREATED:20230501T155537Z
LAST-MODIFIED:20230501T155601Z
UID:10005504-1794938400-1794938400@cpcab.org
SUMMARY:Finance Committee
DESCRIPTION:
URL:https://cpcab.org/event/finance-committee-6/2026-11-17/
END:VEVENT
BEGIN:VEVENT
DTSTART;TZID=UTC:20261215T180000
DTEND;TZID=UTC:20261215T180000
DTSTAMP:20260422T175115
CREATED:20230501T155537Z
LAST-MODIFIED:20230501T155601Z
UID:10005505-1797357600-1797357600@cpcab.org
SUMMARY:Finance Committee
DESCRIPTION:
URL:https://cpcab.org/event/finance-committee-6/2026-12-15/
END:VEVENT
BEGIN:VEVENT
DTSTART;TZID=UTC:20270119T180000
DTEND;TZID=UTC:20270119T180000
DTSTAMP:20260422T175115
CREATED:20230501T155537Z
LAST-MODIFIED:20230501T155601Z
UID:10005506-1800381600-1800381600@cpcab.org
SUMMARY:Finance Committee
DESCRIPTION:
URL:https://cpcab.org/event/finance-committee-6/2027-01-19/
END:VEVENT
BEGIN:VEVENT
DTSTART;TZID=UTC:20270216T180000
DTEND;TZID=UTC:20270216T180000
DTSTAMP:20260422T175115
CREATED:20230501T155537Z
LAST-MODIFIED:20230501T155601Z
UID:10005507-1802800800-1802800800@cpcab.org
SUMMARY:Finance Committee
DESCRIPTION:
URL:https://cpcab.org/event/finance-committee-6/2027-02-16/
END:VEVENT
BEGIN:VEVENT
DTSTART;TZID=UTC:20270316T180000
DTEND;TZID=UTC:20270316T180000
DTSTAMP:20260422T175115
CREATED:20230501T155537Z
LAST-MODIFIED:20230501T155601Z
UID:10005508-1805220000-1805220000@cpcab.org
SUMMARY:Finance Committee
DESCRIPTION:
URL:https://cpcab.org/event/finance-committee-6/2027-03-16/
END:VEVENT
BEGIN:VEVENT
DTSTART;TZID=UTC:20270420T180000
DTEND;TZID=UTC:20270420T180000
DTSTAMP:20260422T175115
CREATED:20230501T155537Z
LAST-MODIFIED:20230501T155601Z
UID:10005509-1808244000-1808244000@cpcab.org
SUMMARY:Finance Committee
DESCRIPTION:
URL:https://cpcab.org/event/finance-committee-6/2027-04-20/
END:VEVENT
BEGIN:VEVENT
DTSTART;TZID=UTC:20270518T180000
DTEND;TZID=UTC:20270518T180000
DTSTAMP:20260422T175115
CREATED:20230501T155537Z
LAST-MODIFIED:20230501T155601Z
UID:10005510-1810663200-1810663200@cpcab.org
SUMMARY:Finance Committee
DESCRIPTION:
URL:https://cpcab.org/event/finance-committee-6/2027-05-18/
END:VEVENT
BEGIN:VEVENT
DTSTART;TZID=UTC:20270615T180000
DTEND;TZID=UTC:20270615T180000
DTSTAMP:20260422T175115
CREATED:20230501T155537Z
LAST-MODIFIED:20230501T155601Z
UID:10005511-1813082400-1813082400@cpcab.org
SUMMARY:Finance Committee
DESCRIPTION:
URL:https://cpcab.org/event/finance-committee-6/2027-06-15/
END:VEVENT
BEGIN:VEVENT
DTSTART;TZID=UTC:20270720T180000
DTEND;TZID=UTC:20270720T180000
DTSTAMP:20260422T175115
CREATED:20230501T155537Z
LAST-MODIFIED:20230501T155601Z
UID:10005512-1816106400-1816106400@cpcab.org
SUMMARY:Finance Committee
DESCRIPTION:
URL:https://cpcab.org/event/finance-committee-6/2027-07-20/
END:VEVENT
BEGIN:VEVENT
DTSTART;TZID=UTC:20270817T180000
DTEND;TZID=UTC:20270817T180000
DTSTAMP:20260422T175115
CREATED:20230501T155537Z
LAST-MODIFIED:20230501T155601Z
UID:10005513-1818525600-1818525600@cpcab.org
SUMMARY:Finance Committee
DESCRIPTION:
URL:https://cpcab.org/event/finance-committee-6/2027-08-17/
END:VEVENT
BEGIN:VEVENT
DTSTART;TZID=UTC:20270921T180000
DTEND;TZID=UTC:20270921T180000
DTSTAMP:20260422T175115
CREATED:20230501T155537Z
LAST-MODIFIED:20230501T155601Z
UID:10005514-1821549600-1821549600@cpcab.org
SUMMARY:Finance Committee
DESCRIPTION:
URL:https://cpcab.org/event/finance-committee-6/2027-09-21/
END:VEVENT
BEGIN:VEVENT
DTSTART;TZID=UTC:20271019T180000
DTEND;TZID=UTC:20271019T180000
DTSTAMP:20260422T175115
CREATED:20230501T155537Z
LAST-MODIFIED:20230501T155601Z
UID:10005515-1823968800-1823968800@cpcab.org
SUMMARY:Finance Committee
DESCRIPTION:
URL:https://cpcab.org/event/finance-committee-6/2027-10-19/
END:VEVENT
BEGIN:VEVENT
DTSTART;TZID=UTC:20271116T180000
DTEND;TZID=UTC:20271116T180000
DTSTAMP:20260422T175115
CREATED:20230501T155537Z
LAST-MODIFIED:20230501T155601Z
UID:10005516-1826388000-1826388000@cpcab.org
SUMMARY:Finance Committee
DESCRIPTION:
URL:https://cpcab.org/event/finance-committee-6/2027-11-16/
END:VEVENT
BEGIN:VEVENT
DTSTART;TZID=UTC:20271221T180000
DTEND;TZID=UTC:20271221T180000
DTSTAMP:20260422T175115
CREATED:20230501T155537Z
LAST-MODIFIED:20230501T155601Z
UID:10005517-1829412000-1829412000@cpcab.org
SUMMARY:Finance Committee
DESCRIPTION:
URL:https://cpcab.org/event/finance-committee-6/2027-12-21/
END:VEVENT
BEGIN:VEVENT
DTSTART;TZID=UTC:20280118T180000
DTEND;TZID=UTC:20280118T180000
DTSTAMP:20260422T175115
CREATED:20230501T155537Z
LAST-MODIFIED:20230501T155601Z
UID:10005518-1831831200-1831831200@cpcab.org
SUMMARY:Finance Committee
DESCRIPTION:
URL:https://cpcab.org/event/finance-committee-6/2028-01-18/
END:VEVENT
BEGIN:VEVENT
DTSTART;TZID=UTC:20280215T180000
DTEND;TZID=UTC:20280215T180000
DTSTAMP:20260422T175115
CREATED:20230501T155537Z
LAST-MODIFIED:20230501T155601Z
UID:10005519-1834250400-1834250400@cpcab.org
SUMMARY:Finance Committee
DESCRIPTION:
URL:https://cpcab.org/event/finance-committee-6/2028-02-15/
END:VEVENT
BEGIN:VEVENT
DTSTART;TZID=UTC:20280321T180000
DTEND;TZID=UTC:20280321T180000
DTSTAMP:20260422T175115
CREATED:20230501T155537Z
LAST-MODIFIED:20230501T155601Z
UID:10005520-1837274400-1837274400@cpcab.org
SUMMARY:Finance Committee
DESCRIPTION:
URL:https://cpcab.org/event/finance-committee-6/2028-03-21/
END:VEVENT
BEGIN:VEVENT
DTSTART;TZID=UTC:20280418T180000
DTEND;TZID=UTC:20280418T180000
DTSTAMP:20260422T175115
CREATED:20230501T155537Z
LAST-MODIFIED:20230501T155601Z
UID:10005521-1839693600-1839693600@cpcab.org
SUMMARY:Finance Committee
DESCRIPTION:
URL:https://cpcab.org/event/finance-committee-6/2028-04-18/
END:VEVENT
END:VCALENDAR